Workbook

Sheet Instructions
A1: Tripod lite - Excel version (version 1.0) Copyright 2023 Stichting Tripod Foundation and Energy Institute Introduction This tool should be used in conjuction with the PDF version of Tripod lite v1.0. The PDF contains full instructions on how to carry out a Tripod lite analysis of an incident, guidance on investigation, and allows you to record the results of the analysis directly into the PDF. The Excel version is intended for more advanced users who need some additional features. Features Both the PDF and Excel versions allow you to: - record a description of an incident; - record the Tripod lite analysis; - categorise human actions, job factors and organisational factors; - record recommendations, and - export data for upload to a database (using the export worksheet in the Excel version). The Excel version has some additional features: - Space for additional job factors and organisational factors in the Tripod lite analysis. In the PDF version, only one job factor and one organisational factor can be recorded for each immediate cause. This is enough for 'beginners'. More advanced users may want to record up to four job factors and up to four organisational factors in the Excel version. - Additional barriers. The PDF version allows up to four barriers to be recorded. This is enough for simple incidents. For more complex incidents, the Excel version allows up to eight barriers to be recorded. - Easy customisation. Your company might have its own internal list of 'job factors' (preconditions, performance influencing factors), organisational factors (underlying causes etc.) or mistakes and non-compliances (human failure types etc.). You can replace the default lists provided with your own (see 'Customisation' below). How to use Fill in the boxes in the 'description of incident' worksheet, then the 'Tripod lite diagram' worksheet. Select the relevant options from the drop down menus. Follow the instructions provided in the PDF version of the tool. You don't need to fill in all barriers (and subsequent causes) - only use what you need. The barriers, job factors and organisational factors will automatically populate in the 'Recommendations' worksheet. You should not change these from this worksheet, only in the Tripod lite diagram. Enter the recommendations for each barrier, job factor and organisational factor. Customisation To customise the drop down menus, you will need to first replace the options in the tables in the 'drop pdown menus' worksheet. Then you will to use the 'Data validation' feature (Data -> Data validation) in Excel to make sure the drop down cells in the Tripod lite diagram are picking up the new options correctly. Customisation is also possible in the PDF version using Adobe Acrobat forms, but it is much harder to do.

Sheet Description of incident
F2: Description of incident
B3: Name of incident
F5: Description of incident | H5: Incident images (if available)
B7: Date of incident
B9: Time of incident
B11: Location of the incident
B15: Date of investigation
B17: Investigation team members
F20: Consequences
B24: Internal incident reference or classification
F27: Other information
B28: Incident severity classification

Sheet Tripod lite diagram
B2: You complete the diagram in numerical order, but you read the diagram from left to right and top to bottom. The diagram tells a story about a task that was being done (the context), and how a hazard led to an event that (potentially or actually) harmed someone or something. Then the diagram shows what ‘barriers’ should have prevented or mitigated the event or the harm, and finally the sequence of causes that led to each barrier failure.
AG10: 8 | AS10: 7 | BG10: 6 | BS10: 5 | CR10: 4 | DD10: 3 | DS10: 2 | EE10: 1
AJ21: E | AK21: Off | AV21: E | AW21: Off | BJ21: E | BK21: Off | BV21: E | BW21: Off | CU21: E | CV21: Off | DG21: E | DH21: Off | DV21: E | DW21: Off | EH21: E | EI21: Off
AC40: Not applicable | AP40: Not applicable | BC40: Not applicable | BP40: Not applicable | CO40: Not applicable | CZ40: Not applicable | DP40: Not applicable | EA40: Not applicable
AJ43: R | AK43: Off | AW43: R | AX43: Off | BJ43: R | BK43: Off | BW43: R | BX43: Off | CV43: R | CW43: Off | DG43: R | DH43: Off | DW43: R | DX43: Off | EH43: R | EI43: Off
AC54: Not applicable | AP54: Not applicable | BC54: Not applicable | BP54: Not applicable | CO54: Not applicable | DA54: Not applicable | DP54: Not applicable | EB54: Not applicable
AC65: Not applicable | AP65: Not applicable | BC65: Not applicable | BP65: Not applicable | CO65: Not applicable | DA65: Not applicable | DP65: Not applicable | EB65: Not applicable
AC76: Not applicable | AP76: Not applicable | BC76: Not applicable | BP76: Not applicable | CO76: Not applicable | DA76: Not applicable | DP76: Not applicable | EB76: Not applicable
AC87: Not applicable | AP87: Not applicable | BC87: Not applicable | BP87: Not applicable | CO87: Not applicable | DA87: Not applicable | DP87: Not applicable | EB87: Not applicable
AC106: Not applicable | AP106: Not applicable | BC106: Not applicable | BP106: Not applicable | CO106: Not applicable | DA106: Not applicable | DP106: Not applicable | EB106: Not applicable
AC117: Not applicable | AP117: Not applicable | BC117: Not applicable | BP117: Not applicable | CO117: Not applicable | DA117: Not applicable | DP117: Not applicable | EB117: Not applicable
AC128: Not applicable | AP128: Not applicable | BC128: Not applicable | BP128: Not applicable | CO128: Not applicable | DA128: Not applicable | DP128: Not applicable | EB128: Not applicable
AC139: Not applicable | AP139: Not applicable | BC139: Not applicable | BP139: Not applicable | CO139: Not applicable | DA139: Not applicable | DP139: Not applicable | EB139: Not applicable

Sheet Recommendations
A2: For each of the failed barriers identified, what action should be taken (and by whom) to restore the barrier, strengthen it, replace it, or provide additional barriers, to allow safe operation to resume, and ideally to prevent the same or similar incident happening again? | F2: For each of the job factors identified, what short-term action should be taken to remove or reduce the issue? For each of the organisational factors identified, what longer term actions could be taken to improve how the organisations manages this type of job factor?
A6: Barrier | C6: Recommendation/s | D6: Who should action this? | E6: Job factors | G6: Short-term recommendations | H6: Who should action this? | I6: Organisational factors | K6: Long-term recommendations | L6: Who should action this?
A7: 1 | E7: 1a | F7: ='Tripod lite diagram'!EB54 -> Not applicable | I7: 1a | J7: ='Tripod lite diagram'!EB$106 -> Not applicable
F9: ='Tripod lite diagram'!EB56 -> 0 | J9: ='Tripod lite diagram'!EB$109 -> 0
E11: 1b | F11: ='Tripod lite diagram'!EB65 -> Not applicable | I11: 1b | J11: ='Tripod lite diagram'!EB$117 -> Not applicable
F13: ='Tripod lite diagram'!EB67 -> 0 | J13: ='Tripod lite diagram'!EB$120 -> 0
E15: 1c | F15: ='Tripod lite diagram'!EB76 -> Not applicable | I15: 1c | J15: ='Tripod lite diagram'!EB$128 -> Not applicable
F17: ='Tripod lite diagram'!EB78 -> 0 | J17: ='Tripod lite diagram'!EB$131 -> 0
E19: 1d | F19: ='Tripod lite diagram'!EB87 -> Not applicable | I19: 1d | J19: ='Tripod lite diagram'!EB$139 -> Not applicable
F21: ='Tripod lite diagram'!EB89 -> 0 | J21: ='Tripod lite diagram'!EB$142 -> 0
A23: 2 | E23: 2a | F23: ='Tripod lite diagram'!DP54 -> Not applicable | I23: 2a | J23: ='Tripod lite diagram'!DP$106 -> Not applicable
F25: ='Tripod lite diagram'!DP56 -> 0 | J25: ='Tripod lite diagram'!DP$109 -> 0
E27: 2b | F27: ='Tripod lite diagram'!DP65 -> Not applicable | I27: 2b | J27: ='Tripod lite diagram'!DP$117 -> Not applicable
F29: ='Tripod lite diagram'!DP67 -> 0 | J29: ='Tripod lite diagram'!DP$120 -> 0
E31: 2c | F31: ='Tripod lite diagram'!DP76 -> Not applicable | I31: 2c | J31: ='Tripod lite diagram'!DP$128 -> Not applicable
F33: ='Tripod lite diagram'!DP78 -> 0 | J33: ='Tripod lite diagram'!DP131 -> 0
E35: 2d | F35: ='Tripod lite diagram'!DP87 -> Not applicable | I35: 2d | J35: ='Tripod lite diagram'!DP139 -> Not applicable
F37: ='Tripod lite diagram'!DP89 -> 0 | J37: ='Tripod lite diagram'!DP142 -> 0
A39: 3 | B39: ='Tripod lite diagram'!CZ16 -> 0 | E39: 3a | F39: ='Tripod lite diagram'!DA54 -> Not applicable | I39: 3a | J39: ='Tripod lite diagram'!DA$106 -> Not applicable
F41: ='Tripod lite diagram'!DA56 -> 0 | J41: ='Tripod lite diagram'!DA$109 -> 0
E43: 3b | F43: ='Tripod lite diagram'!DA65 -> Not applicable | I43: 3b | J43: ='Tripod lite diagram'!DA$117 -> Not applicable
F45: ='Tripod lite diagram'!DA67 -> 0 | J45: ='Tripod lite diagram'!DA$120 -> 0
E47: 3c | F47: ='Tripod lite diagram'!DA76 -> Not applicable | I47: 3c | J47: ='Tripod lite diagram'!DA$128 -> Not applicable
F49: ='Tripod lite diagram'!DA78 -> 0 | J49: ='Tripod lite diagram'!DA$131 -> 0
E51: 3d | F51: ='Tripod lite diagram'!DA87 -> Not applicable | I51: 3d | J51: ='Tripod lite diagram'!DA$139 -> Not applicable
F53: ='Tripod lite diagram'!DA89 -> 0 | J53: ='Tripod lite diagram'!DA$142 -> 0
A55: 4 | B55: ='Tripod lite diagram'!CN16 -> 0 | E55: 4a | F55: ='Tripod lite diagram'!CO54 -> Not applicable | I55: 4a | J55: ='Tripod lite diagram'!CO$106 -> Not applicable
F57: ='Tripod lite diagram'!CO56 -> 0 | J57: ='Tripod lite diagram'!CO$109 -> 0
E59: 4b | F59: ='Tripod lite diagram'!CO65 -> Not applicable | I59: 4b | J59: ='Tripod lite diagram'!CO$117 -> Not applicable
F61: ='Tripod lite diagram'!CO67 -> 0 | J61: ='Tripod lite diagram'!CO$120 -> 0
E63: 4c | F63: ='Tripod lite diagram'!CO76 -> Not applicable | I63: 4c | J63: ='Tripod lite diagram'!CO$128 -> Not applicable
F65: ='Tripod lite diagram'!CO78 -> 0 | J65: ='Tripod lite diagram'!CO$131 -> 0
E67: 4d | F67: ='Tripod lite diagram'!CO87 -> Not applicable | I67: 4d | J67: ='Tripod lite diagram'!CO$139 -> Not applicable
F69: ='Tripod lite diagram'!CO89 -> 0 | J69: ='Tripod lite diagram'!CO$142 -> 0
A71: 5 | B71: ='Tripod lite diagram'!BO16 -> 0 | E71: 5a | F71: ='Tripod lite diagram'!BP54 -> Not applicable | I71: 5a | J71: ='Tripod lite diagram'!BP106 -> Not applicable
F73: ='Tripod lite diagram'!BP56 -> 0 | J73: ='Tripod lite diagram'!BP109 -> 0
E75: 5b | F75: ='Tripod lite diagram'!BP65 -> Not applicable | I75: 5b | J75: ='Tripod lite diagram'!BP117 -> Not applicable
F77: ='Tripod lite diagram'!BP67 -> 0 | J77: ='Tripod lite diagram'!BP120 -> 0
E79: 5c | F79: ='Tripod lite diagram'!BP76 -> Not applicable | I79: 5c | J79: ='Tripod lite diagram'!BP128 -> Not applicable
F81: ='Tripod lite diagram'!BP78 -> 0 | J81: ='Tripod lite diagram'!BP131 -> 0
E83: 5d | F83: ='Tripod lite diagram'!BP87 -> Not applicable | I83: 5d | J83: ='Tripod lite diagram'!BP139 -> Not applicable
F85: ='Tripod lite diagram'!BP89 -> 0 | J85: ='Tripod lite diagram'!BP142 -> 0
A87: 6 | B87: ='Tripod lite diagram'!BC16 -> 0 | E87: 6a | F87: ='Tripod lite diagram'!BC$54 -> Not applicable | I87: 6a | J87: ='Tripod lite diagram'!BC106 -> Not applicable
F89: ='Tripod lite diagram'!BC$56 -> 0 | J89: ='Tripod lite diagram'!BC109 -> 0
E91: 6b | F91: ='Tripod lite diagram'!BC$65 -> Not applicable | I91: 6b | J91: ='Tripod lite diagram'!BC117 -> Not applicable
F93: ='Tripod lite diagram'!BC$67 -> 0 | J93: ='Tripod lite diagram'!BC120 -> 0
E95: 6c | F95: ='Tripod lite diagram'!BC$76 -> Not applicable | I95: 6c | J95: ='Tripod lite diagram'!BC128 -> Not applicable
F97: ='Tripod lite diagram'!BC$78 -> 0 | J97: ='Tripod lite diagram'!BC131 -> 0
E99: 6d | F99: ='Tripod lite diagram'!BC$87 -> Not applicable | I99: 6d | J99: ='Tripod lite diagram'!BC139 -> Not applicable
F101: ='Tripod lite diagram'!BC$89 -> 0 | J101: ='Tripod lite diagram'!BC142 -> 0
A103: 7 | B103: ='Tripod lite diagram'!AO16 -> 0 | E103: 7a | F103: ='Tripod lite diagram'!AP$54 -> Not applicable | I103: 7a | J103: ='Tripod lite diagram'!AP$106 -> Not applicable
F105: ='Tripod lite diagram'!AP$56 -> 0 | J105: ='Tripod lite diagram'!AP$109 -> 0
E107: 7b | F107: ='Tripod lite diagram'!AP$65 -> Not applicable | I107: 7b | J107: ='Tripod lite diagram'!AP$117 -> Not applicable
F109: ='Tripod lite diagram'!AP$67 -> 0 | J109: ='Tripod lite diagram'!AP$120 -> 0
E111: 7c | F111: ='Tripod lite diagram'!AP$76 -> Not applicable | I111: 7c | J111: ='Tripod lite diagram'!AP$128 -> Not applicable
F113: ='Tripod lite diagram'!AP$78 -> 0 | J113: ='Tripod lite diagram'!AP$131 -> 0
E115: 7d | F115: ='Tripod lite diagram'!AP$87 -> Not applicable | I115: 7d | J115: ='Tripod lite diagram'!AP$139 -> Not applicable
F117: ='Tripod lite diagram'!AP$89 -> 0 | J117: ='Tripod lite diagram'!AP$142 -> 0
A119: 8 | B119: ='Tripod lite diagram'!AC16 -> 0 | E119: 8a | F119: ='Tripod lite diagram'!AC$54 -> Not applicable | I119: 8a | J119: ='Tripod lite diagram'!AC$106 -> Not applicable
F121: ='Tripod lite diagram'!AC$56 -> 0 | J121: ='Tripod lite diagram'!AC$109 -> 0
E123: 8b | F123: ='Tripod lite diagram'!AC$65 -> Not applicable | I123: 8b | J123: ='Tripod lite diagram'!AC$117 -> Not applicable
F125: ='Tripod lite diagram'!AC$67 -> 0 | J125: ='Tripod lite diagram'!AC$120 -> 0
E127: 8c | F127: ='Tripod lite diagram'!AC$76 -> Not applicable | I127: 8c | J127: ='Tripod lite diagram'!AC$128 -> Not applicable
F129: ='Tripod lite diagram'!AC$78 -> 0 | J129: ='Tripod lite diagram'!AC$131 -> 0
E131: 8d | F131: ='Tripod lite diagram'!AC$87 -> Not applicable | I131: 8d | J131: ='Tripod lite diagram'!AC$139 -> Not applicable
F133: ='Tripod lite diagram'!AC$89 -> 0 | J133: ='Tripod lite diagram'!AC$142 -> 0

Sheet Dropdown options
B1: Job factors | E1: Organisational factors | H1: Mistake or non-compliance
A3: Type | B3: Job factors | C3: Descriptions | E3: Organisational factors | F3: Description | H3: Mistake or non-compliance | J3: Responses to checkboxes
A4: People | B4: 1. Knowledge or experience | C4: Knowledge or experience associated directly with the task is absent or incomplete, e.g. understanding of the hazards, or associated rules and procedures | E4: 1. Contractor management system | F4: Contractor management process (invitation, evaluation, award, management), including failure to follow the process contributes to challenges in task performance, e.g. appointing contractor with limited experience in operation | H4: Not applicable | J4: Yes
B5: 2. Habit patterns | C5: Where previous learned well practised habits interfere with task execution, e.g. driving a new car that has the indicator and windscreen wipers on the opposite side and selecting the wrong function when making a turn | E5: 2. Customer management system | F5: Where customer expectations, actions or conditions of work increases risk or complexity of the operation, e.g. last minute changes to planned scope of work | H5: Mistake: understanding | J5: Off
B6: 3. Fatigue | C6: Lacking sufficient sleep, long periods of wakefulness or body clock misalignment due to time zone or shift change | E6: 3. Management of change process | F6: Changes to the policies, procedures and standards, organizational structure, roles and responsibilities or staffing levels result in confusion, work execution challenges, gaps in management system implementation | H6: Mistake: awareness
B7: 4. Stress / morale | C7: Adverse reaction to excessive pressures or other types of demand placed on them resulting in degraded task performance, e.g. unrealistic deadlines, lack of resources to support goals, limited control over own work | E7: 4. Procurement process | F7: Procurement of plant, equipment, PPE and business services contributes to risk or task difficulty, e.g. appointment of unqualified contractors | H7: Mistake: work conditions
B8: 5. Physical capabilities | C8: Physical capabilities such as reach, strength, stamina, height cause challenges in completing a task | E8: 5. Safety standards and procedures | F8: Standard, procedure or code of practice within the safety management system is absent or does not meet benchmark good practice guidance, e.g. regulatory and published industry practice | H8: Slip
B9: 6. Use of drugs or alcohol | C9: Substances (legal or otherwise) that adversely influence human performance | E9: 6. Risk management system | F9: Failure to implement risk management system or application of the hierarchy of control not applied to an acceptable level based on current and credible good practice guidance, e.g. regulation, industry or other professional body | H9: Lapse
B10: 7. Team communication | C10: Information between a team is not communicated or is misunderstood | E10: 7. Maintenance, inspection, testing system | F10: Maintenance, inspection, testing process is absent, not implemented or erroneous resulting in degraded performance of plant, equipment and/or PPE | H10: Situational non-compliance
B11: 8. Distractions in home life (family, finances, friends) | C11: Life circumstances cause distractions such as reduced concentration and motivation | E11: 8. Training and competence management | F11: Training and competence system does not provide necessary quality of training to support task performance such as a failure to provide task training (initial or refresher), training content/task requirement mismatch, training not updated in light of changes to practice | H11: Optimising non-compliance (org.)
B12: 9. Personality conflict | C12: Incompatibility between two or more individuals working together on a task causing team breakdown, e.g. dismissive of concerns, imposing authority over another | E12: 9. Leadership and management oversight | F12: Monitoring of the effectiveness and / or implementation of the safety management system by leadership and management does not address implementation gaps, actions, findings and recommendations, e.g. investigation, audit and self-assessment, management review | H12: Optimising non-compliance (personal)
B13: 10. High workload | C13: Unable to meet the pace of work resulting in reduced task performance. Unable to keep working at this rate for long | E13: 10. Supervisory oversight | F13: Assigning and monitoring local work creates or does not address unsafe conditions, e.g. faulty equipment, high workloads, poor procedures, unsafe practice | H13: Reckless violation
B14: 11. Boredom, underload | C14: Where an individual experiences a loss of vigilance due to an unstimulating environment/task | E14: 11. Safety climate | F14: Shared perceptions of employees about the importance of safety within the organisation, division or local workplace result in low workforce engagement, fear of blame | H14: Do not know
A15: Job factors: environment | B15: 12. Error-free performance | C15: A human error will result in an unacceptable risk of a serious injury or fatality, e.g. having to adopt a work position to avoid dangerous moving parts or failure to connect fall arrest harness will result in a fall | E15: 12. Clarity of responsibility | F15: Whether it is clear what the roles are when a task is being carried out (e.g. in an emergency who is expected to take an overview of the situation?)
B16: 13. Unusual, infrequent, unfamiliar or novel situation | C16: Departure from a well-established routine, way of working or agreed scope of work. Unfamiliar or unforeseen task or job site conditions that potentially disturb an individual's understanding of a task or equipment status | E16: 13. Goal conflicts | F16: Expectations, targets and goals create a conflict with safety management, e.g. under-reporting of incidents, exceeding safety boundaries
B17: 14. Distractions / interruptions | C17: Conditions either of the task or of work environment that results in the operator having to stop and restart a task sequence because of their attention being diverted away from the task in hand | E17: 14. Resources | F17: Allocation of resources (people, financial, business structure) create challenges in executing, improving or maintaining safe systems of work, e.g. investment in new technologies, training, maintenance of equipment, staffing levels
B18: 15. Time available | C18: Urgency or excessive pace required to perform action or task. Manifested by shortcuts, being in a hurry, and an unwillingness to accept additional work or to help others. No spare time for task | E18: Do not know
B19: 16. Multi- tasking | C19: Performing two or more activities, either mentally or physically, leading to divided attention, mental overload, or reduced vigilance on one or the other task | E19: Not applicable
B20: 17. Repetitive actions / monotony | C20: Inadequate level of mental activity resulting from performance of repeated actions; boring. Insufficient information exchange at the job site to help individual reach and maintain an acceptable level of alertness | E20: Other
B21: 18. Workspace | C21: Workspace creates difficulties with access and egress, increasing postural stress or cramped conditions of work
B22: 19. Signage | C22: Information such as safety signs not present but required to provide operators with key information
B23: 20. Weather | C23: Fog, haze, snow, rain, smoke, etc. or when exposure to windblast affects the individual’s ability to perform required duties
B24: 21. Lighting | C24: Low or high levels of lighting due to time of day or workplace conditions, sudden changes in light levels from light to dark or vice versa, glare from artificial or natural sources
B25: 22. Noise | C25: Noise levels interfere (e.g., ambient conditions or sudden loud noise inducing startle effect) with task performance such as causing team communication challenges or affecting an individual’s ability to concentrate
B26: 23. Heat / cold | C26: Hot, cold or humid conditions, including how they influence surface conditions
A27: Equipment | B27: 24. Equipment availability | C27: Where equipment/PPE is not available for the task leading to alternative equipment being used that is not suitable
B28: 25. Equipment condition | C28: Equipment/PPE condition is such that the user experiences challenges or is exposed to additional risk, e.g. faulty, seized, worn out equipment
B29: 26. Equipment suitability | C29: Specified equipment/PPE is not able to achieve the desired performance standard or exposes an individual to an unacceptable risk, e.g. high levels of noise or vibration, exposure to dangerous parts
B30: 27. Controls or display interactions | C30: Design features of displays, controls and alarms that create confusion or difficulty in operation, examples include controls that are close to each other and that look and feel similar, poor labelling of displays and controls, false alarms, similar modes of operation, inconsistent operation of control and cluttered displays
B31: 28. PPE interference | C31: Use of specified personal protective equipment create problems in task performance e.g., loss of dexterity
A32: Procedures | B32: 29. Procedure or other task document availability | C32: Procedures or other documents that are required to support task performance are not available, placing reliance on individual to perform the task from memory, e.g. checklist, method statement, safety datasheet, operating manual
B33: 30. Procedure or other task document suitability | C33: Procedure or other document is not suitable because it is inaccurate, out of date, contains difficult to interpret requirements or cannot be implemented due to operational constraints
B34: 31. Procedure or other document usage | C34: Environmental or other conditions create difficulty in the use of the procedure or other document condition, e.g. wet and windy conditions
B35: Do not know
B36: Not applicable
B37: Other

Sheet Export
A1: Section | B1: Description of incident | M1: Stages of incident | R1: Barriers and barrier effectiveness | AH1: Immediate causes | AP1: Mistake or non-compliance type | AX1: Repeated mistake or non-compliance | BF1: Job factor categories | CL1: Job factors actual | DR1: Organisational factor categories | EX1: Organisational factor actual | GD1: Barrier reccomendations | GL1: Who should action barrier recommendations | GT1: Job factor reccomendations | HZ1: Who will action job factor reccomendations | JF1: Organisational factor reccomendations | KL1: Who will action org factor reccomendations
A2: Field | B2: Name of incident | C2: Date of incident | D2: Time of incident | E2: Location of incident | F2: Date of investigation | G2: Description of incident | H2: Investigation team | I2: Internal company incident reference | J2: Consequences | K2: Incident severity classification | L2: Other information | M2: Context | N2: The Hazard | O2: Event | P2: Who or what? | Q2: Harm | R2: Barrier 1 | S2: Barrier 2 | T2: Barrier 3 | U2: Barrier 4 | V2: Barrier 5 | W2: Barrier 6 | X2: Barrier 7 | Y2: Barrier 8 | Z2: Barrier 1 was effective | AA2: Barrier 2 was effective | AB2: Barrier 3 was effective | AC2: Barrier 4 was effective | AD2: Barrier 5 was effective | AE2: Barrier 6 was effective | AF2: Barrier 7 was effective | AG2: Barrier 8 was effective | AH2: Immediate cause 1 | AI2: Immediate cause 2 | AJ2: Immediate cause 3 | AK2: Immediate cause 4 | AL2: Immediate cause 5 | AM2: Immediate cause 6 | AN2: Immediate cause 7 | AO2: Immediate cause 8 | AP2: Mistake or non-compliance 1 | AQ2: Mistake or non-compliance 2 | AR2: Mistake or non-compliance 3 | AS2: Mistake or non-compliance 4 | AT2: Mistake or non-compliance 5 | AU2: Mistake or non-compliance 6 | AV2: Mistake or non-compliance 7 | AW2: Mistake or non-compliance 8 | AX2: Repeated mistake or non-compliance 1 | AY2: Repeated mistake or non-compliance 2 | AZ2: Repeated mistake or non-compliance 3 | BA2: Repeated mistake or non-compliance 4 | BB2: Repeated mistake or non-compliance 5 | BC2: Repeated mistake or non-compliance 6 | BD2: Repeated mistake or non-compliance 7 | BE2: Repeated mistake or non-compliance 8 | BF2: Job factor 1 category | BG2: Job factor 1b category | BH2: Job factor 1c category | BI2: Job factor 1d category | BJ2: Job factor 2 category | BK2: Job factor 2b category | BL2: Job factor 2c category | BM2: Job factor 2d category | BN2: Job factor 3 category | BO2: Job factor 3b category | BP2: Job factor 3c category | BQ2: Job factor 3d category | BR2: Job factor 4 category | BS2: Job factor 4b category | BT2: Job factor 4c category | BU2: Job factor 4d category | BV2: Job factor 5 category | BW2: Job factor 5b category | BX2: Job factor 5c category | BY2: Job factor 5d category | BZ2: Job factor 6 category | CA2: Job factor 6b category | CB2: Job factor 6c category | CC2: Job factor 6d category | CD2: Job factor 7 category | CE2: Job factor 7b category | CF2: Job factor 7c category | CG2: Job factor 7d category | CH2: Job factor 8 category | CI2: Job factor 8b category | CJ2: Job factor 8c category | CK2: Job factor 8d category | CL2: Job factor 1 | CM2: Job factor 1b | CN2: Job factor 1c | CO2: Job factor 1d | CP2: Job factor 2 | CQ2: Job factor 2b | CR2: Job factor 2c | CS2: Job factor 2d | CT2: Job factor 3 | CU2: Job factor 3b | CV2: Job factor 3c | CW2: Job factor 3d | CX2: Job factor 4 | CY2: Job factor 4b | CZ2: Job factor 4c | DA2: Job factor 4d | DB2: Job factor 5 | DC2: Job factor 5b | DD2: Job factor 5c | DE2: Job factor 5d | DF2: Job factor 6 | DG2: Job factor 6b | DH2: Job factor 6c | DI2: Job factor 6d | DJ2: Job factor 7 | DK2: Job factor 7b | DL2: Job factor 7c | DM2: Job factor 7d | DN2: Job factor 8 | DO2: Job factor 8b | DP2: Job factor 8c | DQ2: Job factor 8d | DR2: Organisational factor 1 category | DS2: Organisational factor 1b category | DT2: Organisational factor 1c category | DU2: Organisational factor 1d category | DV2: Organisational factor 2 category | DW2: Organisational factor 2b category | DX2: Organisational factor 2c category | DY2: Organisational factor 2d category | DZ2: Organisational factor 3 category | EA2: Organisational factor 3b category | EB2: Organisational factor 3c category | EC2: Organisational factor 3d category | ED2: Organisational factor 4 category | EE2: Organisational factor 4b category | EF2: Organisational factor 4c category | EG2: Organisational factor 4d category | EH2: Organisational factor 5 category | EI2: Organisational factor 5b category | EJ2: Organisational factor 5c category | EK2: Organisational factor 5d category | EL2: Organisational factor 6 category | EM2: Organisational factor 6b category | EN2: Organisational factor 6c category | EO2: Organisational factor 6d category | EP2: Organisational factor 7 category | EQ2: Organisational factor 7b category | ER2: Organisational factor 7c category | ES2: Organisational factor 7d category | ET2: Organisational factor 8 category | EU2: Organisational factor 8b category | EV2: Organisational factor 8c category | EW2: Organisational factor 8d category | EX2: Organisational factor 1 | EY2: Organisational factor 1b | EZ2: Organisational factor 1c | FA2: Organisational factor 1d | FB2: Organisational factor 2 | FC2: Organisational factor 2b | FD2: Organisational factor 2c | FE2: Organisational factor 2d | FF2: Organisational factor 3 | FG2: Organisational factor 3b | FH2: Organisational factor 3c | FI2: Organisational factor 3d | FJ2: Organisational factor 4 | FK2: Organisational factor 4b | FL2: Organisational factor 4c | FM2: Organisational factor 4d | FN2: Organisational factor 5 | FO2: Organisational factor 5b | FP2: Organisational factor 5c | FQ2: Organisational factor 5d | FR2: Organisational factor 6 | FS2: Organisational factor 6b | FT2: Organisational factor 6c | FU2: Organisational factor 6d | FV2: Organisational factor 7 | FW2: Organisational factor 7b | FX2: Organisational factor 7c | FY2: Organisational factor 7d | FZ2: Organisational factor 8 | GA2: Organisational factor 8b | GB2: Organisational factor 8c | GC2: Organisational factor 8d | GD2: Barrier 1 recommendation | GE2: Barrier 2 recommendation | GF2: Barrier 3 recommendation | GG2: Barrier 4 recommendation | GH2: Barrier 5 recommendation | GI2: Barrier 6 recommendation | GJ2: Barrier 7 recommendation | GK2: Barrier 8 recommendation | GL2: Who should action barrier recommendation 1 | GM2: Who should action barrier recommendation 2 | GN2: Who should action barrier recommendation 3 | GO2: Who should action barrier recommendation 4 | GP2: Who should action barrier recommendation 5 | GQ2: Who should action barrier recommendation 6 | GR2: Who should action barrier recommendation 7 | GS2: Who should action barrier recommendation 8 | GT2: Job factor 1 recommendation | GU2: Job factor 1b recommendation | GV2: Job factor 1c recommendation | GW2: Job factor 1d recommendation | GX2: Job factor 2 recommendation | GY2: Job factor 2b recommendation | GZ2: Job factor 2c recommendation | HA2: Job factor 2d recommendation | HB2: Job factor 3 recommendation | HC2: Job factor 3b recommendation | HD2: Job factor 3c recommendation | HE2: Job factor 3d recommendation | HF2: Job factor 4 recommendation | HG2: Job factor 4b recommendation | HH2: Job factor 4c recommendation | HI2: Job factor 4d recommendation | HJ2: Job factor 5 recommendation | HK2: Job factor 5b recommendation | HL2: Job factor 5c recommendation | HM2: Job factor 5d recommendation | HN2: Job factor 6 recommendation | HO2: Job factor 6b recommendation | HP2: Job factor 6c recommendation | HQ2: Job factor 6d recommendation | HR2: Job factor 7 recommendation | HS2: Job factor 7b recommendation | HT2: Job factor 7c recommendation | HU2: Job factor 7d recommendation | HV2: Job factor 8 recommendation | HW2: Job factor 8b recommendation | HX2: Job factor 8c recommendation | HY2: Job factor 8d recommendation | HZ2: Who will action job factor 1 recommendation | IA2: Who will action job factor 1b recommendation | IB2: Who will action job factor 1c recommendation | IC2: Who will action job factor 1d recommendation | ID2: Who will action job factor 2 recommendation | IE2: Who will action job factor 2b recommendation | IF2: Who will action job factor 2c recommendation | IG2: Who will action job factor 2d recommendation | IH2: Who will action job factor 3 recommendation | II2: Who will action job factor 3b recommendation | IJ2: Who will action job factor 3c recommendation | IK2: Who will action job factor 3d recommendation | IL2: Who will action job factor 4 recommendation | IM2: Who will action job factor 4b recommendation | IN2: Who will action job factor 4c recommendation | IO2: Who will action job factor 4d recommendation | IP2: Who will action job factor 5 recommendation | IQ2: Who will action job factor 5b recommendation | IR2: Who will action job factor 5c recommendation | IS2: Who will action job factor 5d recommendation | IT2: Who will action job factor 6 recommendation | IU2: Who will action job factor 6b recommendation | IV2: Who will action job factor 6c recommendation | IW2: Who will action job factor 6d recommendation | IX2: Who will action job factor 7 recommendation | IY2: Who will action job factor 7b recommendation | IZ2: Who will action job factor 7c recommendation | JA2: Who will action job factor 7d recommendation | JB2: Who will action job factor 8 recommendation | JC2: Who will action job factor 8b recommendation | JD2: Who will action job factor 8c recommendation | JE2: Who will action job factor 8d recommendation | JF2: Organisational factor 1 recommendation | JG2: Organisational factor 1b recommendation | JH2: Organisational factor 1c recommendation | JI2: Organisational factor 1d recommendation | JJ2: Organisational factor 2 recommendation | JK2: Organisational factor 2b recommendation | JL2: Organisational factor 2c recommendation | JM2: Organisational factor 2d recommendation | JN2: Organisational factor 3 recommendation | JO2: Organisational factor 3b recommendation | JP2: Organisational factor 3c recommendation | JQ2: Organisational factor 3d recommendation | JR2: Organisational factor 4 recommendation | JS2: Organisational factor 4b recommendation | JT2: Organisational factor 4c recommendation | JU2: Organisational factor 4d recommendation | JV2: Organisational factor 5 recommendation | JW2: Organisational factor 5b recommendation | JX2: Organisational factor 5c recommendation | JY2: Organisational factor 5d recommendation | JZ2: Organisational factor 6 recommendation | KA2: Organisational factor 6b recommendation | KB2: Organisational factor 6c recommendation | KC2: Organisational factor 6d recommendation | KD2: Organisational factor 7 recommendation | KE2: Organisational factor 7b recommendation | KF2: Organisational factor 7c recommendation | KG2: Organisational factor 7d recommendation | KH2: Organisational factor 8 recommendation | KI2: Organisational factor 8b recommendation | KJ2: Organisational factor 8c recommendation | KK2: Organisational factor 8d recommendation | KL2: Who will action org factor 1 recommendation | KM2: Who will action org factor 1b recommendation | KN2: Who will action org factor 1c recommendation | KO2: Who will action org factor 1d recommendation | KP2: Who will action org factor 2 recommendation | KQ2: Who will action org factor 2b recommendation | KR2: Who will action org factor 2c recommendation | KS2: Who will action org factor 2d recommendation | KT2: Who will action org factor 3 recommendation | KU2: Who will action org factor 3b recommendation | KV2: Who will action org factor 3c recommendation | KW2: Who will action org factor 3d recommendation | KX2: Who will action org factor 4 recommendation | KY2: Who will action org factor 4b recommendation | KZ2: Who will action org factor 4c recommendation | LA2: Who will action org factor 4d recommendation | LB2: Who will action org factor 5 recommendation | LC2: Who will action org factor 5b recommendation | LD2: Who will action org factor 5c recommendation | LE2: Who will action org factor 5d recommendation | LF2: Who will action org factor 6 recommendation | LG2: Who will action org factor 6b recommendation | LH2: Who will action org factor 6c recommendation | LI2: Who will action org factor 6d recommendation | LJ2: Who will action org factor 7 recommendation | LK2: Who will action org factor 7b recommendation | LL2: Who will action org factor 7c recommendation | LM2: Who will action org factor 7d recommendation | LN2: Who will action org factor 8 recommendation | LO2: Who will action org factor 8b recommendation | LP2: Who will action org factor 8c recommendation | LQ2: Who will action org factor 8d recommendation
A3: Response | B3: ='Description of incident'!$B$4 -> 0 | C3: ='Description of incident'!$D$7 -> 0 | D3: ='Description of incident'!$D$9 -> 0 | E3: ='Description of incident'!$B$12 -> 0 | F3: ='Description of incident'!$D$15 -> 0 | G3: ='Description of incident'!$F$6 -> 0 | H3: ='Description of incident'!$D$17 -> 0 | I3: ='Description of incident'!$B$25 -> 0 | J3: ='Description of incident'!$F$21 -> 0 | K3: ='Description of incident'!$B$29 -> 0 | M3: ='Tripod lite diagram'!$C$11 -> 0 | N3: ='Tripod lite diagram'!$Q$11 -> 0 | O3: ='Tripod lite diagram'!$CA$12 -> 0 | P3: ='Tripod lite diagram'!$EN$12 -> 0 | Q3: ='Tripod lite diagram'!$FB$12 -> 0 | R3: ='Tripod lite diagram'!$EA$16 -> 0 | S3: ='Tripod lite diagram'!$DO$16 -> 0 | T3: ='Tripod lite diagram'!$CZ$16 -> 0 | U3: ='Tripod lite diagram'!$CN$16 -> 0 | V3: ='Tripod lite diagram'!$BO$16 -> 0 | W3: ='Tripod lite diagram'!$BC$16 -> 0 | X3: ='Tripod lite diagram'!$AO$16 -> 0 | Y3: ='Tripod lite diagram'!$AC$16 -> 0 | Z3: ='Tripod lite diagram'!$EI$21 -> Off | AA3: ='Tripod lite diagram'!$DW$21 -> Off | AB3: ='Tripod lite diagram'!$DH$21 -> Off | AC3: ='Tripod lite diagram'!$CV$21 -> Off | AD3: ='Tripod lite diagram'!$BW$21 -> Off | AE3: ='Tripod lite diagram'!$BK$21 -> Off | AF3: ='Tripod lite diagram'!$AW$21 -> Off | AG3: ='Tripod lite diagram'!$AK$21 -> Off | AH3: ='Tripod lite diagram'!$EA$30 -> 0 | AI3: ='Tripod lite diagram'!$DP$30 -> 0 | AJ3: ='Tripod lite diagram'!$CZ$30 -> 0 | AK3: ='Tripod lite diagram'!$CO$30 -> 0 | AL3: ='Tripod lite diagram'!$BP$30 -> 0 | AM3: ='Tripod lite diagram'!$BC$30 -> 0 | AN3: ='Tripod lite diagram'!$AP$30 -> 0 | AO3: ='Tripod lite diagram'!$AC$30 -> 0 | AP3: ='Tripod lite diagram'!$EA$40 -> Not applicable | AQ3: ='Tripod lite diagram'!$DP$40 -> Not applicable | AR3: ='Tripod lite diagram'!$CZ$40 -> Not applicable | AS3: ='Tripod lite diagram'!$CO$40 -> Not applicable | AT3: ='Tripod lite diagram'!$BP$40 -> Not applicable | AU3: ='Tripod lite diagram'!$BC$40 -> Not applicable | AV3: ='Tripod lite diagram'!$AP$40 -> Not applicable | AW3: ='Tripod lite diagram'!$AC$40 -> Not applicable | AX3: ='Tripod lite diagram'!$EI$43 -> Off | AY3: ='Tripod lite diagram'!$DX$43 -> Off | AZ3: ='Tripod lite diagram'!$DH$43 -> Off | BA3: ='Tripod lite diagram'!$CW$43 -> Off | BB3: ='Tripod lite diagram'!$BX$43 -> Off | BC3: ='Tripod lite diagram'!$BK$43 -> Off | BD3: ='Tripod lite diagram'!$AX$43 -> Off | BE3: ='Tripod lite diagram'!$AK$43 -> Off | BF3: ='Tripod lite diagram'!$EB$54 -> Not applicable | BG3: ='Tripod lite diagram'!$EB$65 -> Not applicable | BH3: ='Tripod lite diagram'!$EB$76 -> Not applicable | BI3: ='Tripod lite diagram'!$EB$87 -> Not applicable | BJ3: ='Tripod lite diagram'!$DP$54 -> Not applicable | BK3: ='Tripod lite diagram'!$DP$65 -> Not applicable | BL3: ='Tripod lite diagram'!$DP$76 -> Not applicable | BM3: ='Tripod lite diagram'!$DP$87 -> Not applicable | BN3: ='Tripod lite diagram'!$DA$54 -> Not applicable | BO3: ='Tripod lite diagram'!$DA$65 -> Not applicable | BP3: ='Tripod lite diagram'!$DA$76 -> Not applicable | BQ3: ='Tripod lite diagram'!$DA$87 -> Not applicable | BR3: ='Tripod lite diagram'!$CO$54 -> Not applicable | BS3: ='Tripod lite diagram'!$CO$65 -> Not applicable | BT3: ='Tripod lite diagram'!$CO$76 -> Not applicable | BU3: ='Tripod lite diagram'!$CO$87 -> Not applicable | BV3: ='Tripod lite diagram'!$BP$54 -> Not applicable | BW3: ='Tripod lite diagram'!$BP$65 -> Not applicable | BX3: ='Tripod lite diagram'!$BP$76 -> Not applicable | BY3: ='Tripod lite diagram'!$BP$87 -> Not applicable | BZ3: ='Tripod lite diagram'!$BC$54 -> Not applicable | CA3: ='Tripod lite diagram'!$BC$65 -> Not applicable | CB3: ='Tripod lite diagram'!$BC$76 -> Not applicable | CC3: ='Tripod lite diagram'!$BC$87 -> Not applicable | CD3: ='Tripod lite diagram'!$AP$54 -> Not applicable | CE3: ='Tripod lite diagram'!$AP$65 -> Not applicable | CF3: ='Tripod lite diagram'!$AP$76 -> Not applicable | CG3: ='Tripod lite diagram'!$AP$87 -> Not applicable | CH3: ='Tripod lite diagram'!$AC$54 -> Not applicable | CI3: ='Tripod lite diagram'!$AC$65 -> Not applicable | CJ3: ='Tripod lite diagram'!$AC$76 -> Not applicable | CK3: ='Tripod lite diagram'!$AC$87 -> Not applicable | CL3: ='Tripod lite diagram'!$EB$56 -> 0 | CM3: ='Tripod lite diagram'!$EB$67 -> 0 | CN3: ='Tripod lite diagram'!$EB$78 -> 0 | CO3: ='Tripod lite diagram'!$EB$89 -> 0 | CP3: ='Tripod lite diagram'!$DP$56 -> 0 | CQ3: ='Tripod lite diagram'!$DP$67 -> 0 | CR3: ='Tripod lite diagram'!$DP$78 -> 0 | CS3: ='Tripod lite diagram'!$DP$89 -> 0 | CT3: ='Tripod lite diagram'!$DA$56 -> 0 | CU3: ='Tripod lite diagram'!$DA$67 -> 0 | CV3: ='Tripod lite diagram'!$DA$78 -> 0 | CW3: ='Tripod lite diagram'!$DA$89 -> 0 | CX3: ='Tripod lite diagram'!$CO$56 -> 0 | CY3: ='Tripod lite diagram'!$CO$67 -> 0 | CZ3: ='Tripod lite diagram'!$CO$78 -> 0 | DA3: ='Tripod lite diagram'!$CO$89 -> 0 | DB3: ='Tripod lite diagram'!$BP$56 -> 0 | DC3: ='Tripod lite diagram'!$BP$67 -> 0 | DD3: ='Tripod lite diagram'!$BP$78 -> 0 | DE3: ='Tripod lite diagram'!$BP$89 -> 0 | DF3: ='Tripod lite diagram'!$BC$56 -> 0 | DG3: ='Tripod lite diagram'!$BC$67 -> 0 | DH3: ='Tripod lite diagram'!$BC$78 -> 0 | DI3: ='Tripod lite diagram'!$BC$89 -> 0 | DJ3: ='Tripod lite diagram'!$AP$56 -> 0 | DK3: ='Tripod lite diagram'!$AP$67 -> 0 | DL3: ='Tripod lite diagram'!$AP$78 -> 0 | DM3: ='Tripod lite diagram'!$AP$89 -> 0 | DN3: ='Tripod lite diagram'!$AC$56 -> 0 | DO3: ='Tripod lite diagram'!$AC$67 -> 0 | DP3: ='Tripod lite diagram'!$AC$78 -> 0 | DQ3: ='Tripod lite diagram'!$AC$89 -> 0 | DR3: ='Tripod lite diagram'!$EB$106 -> Not applicable | DS3: ='Tripod lite diagram'!$EB$117 -> Not applicable | DT3: ='Tripod lite diagram'!$EB$128 -> Not applicable | DU3: ='Tripod lite diagram'!$EB$139 -> Not applicable | DV3: ='Tripod lite diagram'!$DP$106 -> Not applicable | DW3: ='Tripod lite diagram'!$DP$117 -> Not applicable | DX3: ='Tripod lite diagram'!$DP$128 -> Not applicable | DY3: ='Tripod lite diagram'!$DP$139 -> Not applicable | DZ3: ='Tripod lite diagram'!$DA$106 -> Not applicable | EA3: ='Tripod lite diagram'!$DA$117 -> Not applicable | EB3: ='Tripod lite diagram'!$DA$128 -> Not applicable | EC3: ='Tripod lite diagram'!$DA$139 -> Not applicable | ED3: ='Tripod lite diagram'!$CO$106 -> Not applicable | EE3: ='Tripod lite diagram'!$CO$117 -> Not applicable | EF3: ='Tripod lite diagram'!$CO$128 -> Not applicable | EG3: ='Tripod lite diagram'!$CO$139 -> Not applicable | EH3: ='Tripod lite diagram'!$BP$106 -> Not applicable | EI3: ='Tripod lite diagram'!$BP$117 -> Not applicable | EJ3: ='Tripod lite diagram'!$BP$128 -> Not applicable | EK3: ='Tripod lite diagram'!$BP$139 -> Not applicable | EL3: ='Tripod lite diagram'!$BC$106 -> Not applicable | EM3: ='Tripod lite diagram'!$BC$117 -> Not applicable | EN3: ='Tripod lite diagram'!$BC$128 -> Not applicable | EO3: ='Tripod lite diagram'!$BC$139 -> Not applicable | EP3: ='Tripod lite diagram'!$AP$106 -> Not applicable | EQ3: ='Tripod lite diagram'!$AP$117 -> Not applicable | ER3: ='Tripod lite diagram'!$AP$128 -> Not applicable | ES3: ='Tripod lite diagram'!$AP$139 -> Not applicable | ET3: ='Tripod lite diagram'!$AC$106 -> Not applicable | EU3: ='Tripod lite diagram'!$AC$117 -> Not applicable | EV3: ='Tripod lite diagram'!$AC$128 -> Not applicable | EW3: ='Tripod lite diagram'!$AC$139 -> Not applicable | EX3: ='Tripod lite diagram'!$EB$109 -> 0 | EY3: ='Tripod lite diagram'!$EB$120 -> 0 | EZ3: ='Tripod lite diagram'!$EB$131 -> 0 | FA3: ='Tripod lite diagram'!$EB$142 -> 0 | FB3: ='Tripod lite diagram'!$DP$109 -> 0 | FC3: ='Tripod lite diagram'!$DP$120 -> 0 | FD3: ='Tripod lite diagram'!$DP$131 -> 0 | FE3: ='Tripod lite diagram'!$DP$142 -> 0 | FF3: ='Tripod lite diagram'!$DA$109 -> 0 | FG3: ='Tripod lite diagram'!$DA$120 -> 0 | FH3: ='Tripod lite diagram'!$DA$131 -> 0 | FI3: ='Tripod lite diagram'!$DA$142 -> 0 | FJ3: ='Tripod lite diagram'!$CO$109 -> 0 | FK3: ='Tripod lite diagram'!$CO$120 -> 0 | FL3: ='Tripod lite diagram'!$CO$131 -> 0 | FM3: ='Tripod lite diagram'!$CO$142 -> 0 | FN3: ='Tripod lite diagram'!$BP$109 -> 0 | FO3: ='Tripod lite diagram'!$BP$120 -> 0 | FP3: ='Tripod lite diagram'!$BP$131 -> 0 | FQ3: ='Tripod lite diagram'!$BP$142 -> 0 | FR3: ='Tripod lite diagram'!$BC$109 -> 0 | FS3: ='Tripod lite diagram'!$BC$120 -> 0 | FT3: ='Tripod lite diagram'!$BC$131 -> 0 | FU3: ='Tripod lite diagram'!$BC$142 -> 0 | FV3: ='Tripod lite diagram'!$AP$109 -> 0 | FW3: ='Tripod lite diagram'!$AP$120 -> 0 | FX3: ='Tripod lite diagram'!$AP$131 -> 0 | FY3: ='Tripod lite diagram'!$AP$142 -> 0 | FZ3: ='Tripod lite diagram'!$AC$109 -> 0 | GA3: ='Tripod lite diagram'!$AC$120 -> 0 | GB3: ='Tripod lite diagram'!$AC$131 -> 0 | GC3: ='Tripod lite diagram'!$AC$142 -> 0 | GD3: =Recommendations!$C$7 -> 0 | GE3: =Recommendations!$C$23 -> 0 | GF3: =Recommendations!$C$39 -> 0 | GG3: =Recommendations!$C$55 -> 0 | GH3: =Recommendations!$C$71 -> 0 | GI3: =Recommendations!$C$87 -> 0 | GJ3: =Recommendations!$C$103 -> 0 | GK3: =Recommendations!$C$119 -> 0 | GL3: =Recommendations!$D$7 -> 0 | GM3: =Recommendations!$D$23 -> 0 | GN3: =Recommendations!$D$39 -> 0 | GO3: =Recommendations!$D$55 -> 0 | GP3: =Recommendations!$D$71 -> 0 | GQ3: =Recommendations!$D$87 -> 0 | GR3: =Recommendations!$D$103 -> 0 | GS3: =Recommendations!$D$119 -> 0 | GU3: =Recommendations!$G$11 -> 0 | GV3: =Recommendations!$G$15 -> 0 | GW3: =Recommendations!$G$19 -> 0 | GX3: =Recommendations!$G$23 -> 0 | GY3: =Recommendations!$G$27 -> 0 | GZ3: =Recommendations!$G$31 -> 0 | HA3: =Recommendations!$G$35 -> 0 | HB3: =Recommendations!$G$39 -> 0 | HC3: =Recommendations!$G$43 -> 0 | HD3: =Recommendations!$G$47 -> 0 | HE3: =Recommendations!$G$51 -> 0 | HF3: =Recommendations!$G$55 -> 0 | HG3: =Recommendations!$G$59 -> 0 | HH3: =Recommendations!$G$63 -> 0 | HI3: =Recommendations!$G$67 -> 0 | HJ3: =Recommendations!$G$71 -> 0 | HK3: =Recommendations!$G$75 -> 0 | HL3: =Recommendations!$G$79 -> 0 | HM3: =Recommendations!$G$83 -> 0 | HN3: =Recommendations!$G$87 -> 0 | HO3: =Recommendations!$G$91 -> 0 | HP3: =Recommendations!$G$95 -> 0 | HQ3: =Recommendations!$G$99 -> 0 | HR3: =Recommendations!$G$103 -> 0 | HS3: =Recommendations!$G$107 -> 0 | HT3: =Recommendations!$G$111 -> 0 | HU3: =Recommendations!$G$115 -> 0 | HV3: =Recommendations!$G$119 -> 0 | HW3: =Recommendations!$G$123 -> 0 | HX3: =Recommendations!$G$127 -> 0 | HY3: =Recommendations!$G$131 -> 0 | HZ3: =Recommendations!$H$7 -> 0 | IA3: =Recommendations!$H$11 -> 0 | IB3: =Recommendations!$H$15 -> 0 | IC3: =Recommendations!$H$19 -> 0 | ID3: =Recommendations!$H$23 -> 0 | IE3: =Recommendations!$H$27 -> 0 | IF3: =Recommendations!$H$31 -> 0 | IG3: =Recommendations!$H$35 -> 0 | IH3: =Recommendations!$H$39 -> 0 | II3: =Recommendations!$H$43 -> 0 | IJ3: =Recommendations!$H$47 -> 0 | IK3: =Recommendations!$H$51 -> 0 | IL3: =Recommendations!$H$55 -> 0 | IM3: =Recommendations!$H$59 -> 0 | IN3: =Recommendations!$H$63 -> 0 | IO3: =Recommendations!$H$67 -> 0 | IP3: =Recommendations!$H$71 -> 0 | IQ3: =Recommendations!$H$75 -> 0 | IR3: =Recommendations!$H$79 -> 0 | IS3: =Recommendations!$H$83 -> 0 | IT3: =Recommendations!$H$87 -> 0 | IU3: =Recommendations!$H$91 -> 0 | IV3: =Recommendations!$H$95 -> 0 | IW3: =Recommendations!$H$99 -> 0 | IX3: =Recommendations!$H$103 -> 0 | IY3: =Recommendations!$H$107 -> 0 | IZ3: =Recommendations!$H$111 -> 0 | JA3: =Recommendations!$H$115 -> 0 | JB3: =Recommendations!$H$119 -> 0 | JC3: =Recommendations!$H$123 -> 0 | JD3: =Recommendations!$H$127 -> 0 | JE3: =Recommendations!$H$131 -> 0 | JF3: =Recommendations!$K$7 -> 0 | JG3: =Recommendations!$K$11 -> 0 | JH3: =Recommendations!$K$15 -> 0 | JI3: =Recommendations!$K$19 -> 0 | JJ3: =Recommendations!$K$23 -> 0 | JK3: =Recommendations!$K$27 -> 0 | JL3: =Recommendations!$K$31 -> 0 | JM3: =Recommendations!$K$35 -> 0 | JN3: =Recommendations!$K$39 -> 0 | JO3: =Recommendations!$K$43 -> 0 | JP3: =Recommendations!$K$47 -> 0 | JQ3: =Recommendations!$K$51 -> 0 | JR3: =Recommendations!$K$55 -> 0 | JS3: =Recommendations!$K$59 -> 0 | JT3: =Recommendations!$K$63 -> 0 | JU3: =Recommendations!$K$67 -> 0 | JV3: =Recommendations!$K$71 -> 0 | JW3: =Recommendations!$K$75 -> 0 | JX3: =Recommendations!$K$79 -> 0 | JY3: =Recommendations!$K$83 -> 0 | JZ3: =Recommendations!$K$87 -> 0 | KA3: =Recommendations!$K$91 -> 0 | KB3: =Recommendations!$K$95 -> 0 | KC3: =Recommendations!$K$99 -> 0 | KD3: =Recommendations!$K$103 -> 0 | KE3: =Recommendations!$K$107 -> 0 | KF3: =Recommendations!$K$111 -> 0 | KG3: =Recommendations!$K$115 -> 0 | KH3: =Recommendations!$K$119 -> 0 | KI3: =Recommendations!$K$123 -> 0 | KJ3: =Recommendations!$K$127 -> 0 | KK3: =Recommendations!$K$131 -> 0 | KL3: =Recommendations!$L$7 -> 0 | KM3: =Recommendations!$L$11 -> 0 | KN3: =Recommendations!$L$15 -> 0 | KO3: =Recommendations!$L$19 -> 0 | KP3: =Recommendations!$L$23 -> 0 | KQ3: =Recommendations!$L$27 -> 0 | KR3: =Recommendations!$L$31 -> 0 | KS3: =Recommendations!$L$35 -> 0 | KT3: =Recommendations!$L$39 -> 0 | KU3: =Recommendations!$L$43 -> 0 | KV3: =Recommendations!$L$47 -> 0 | KW3: =Recommendations!$L$51 -> 0 | KX3: =Recommendations!$L$55 -> 0 | KY3: =Recommendations!$L$59 -> 0 | KZ3: =Recommendations!$L$63 -> 0 | LA3: =Recommendations!$L$67 -> 0 | LB3: =Recommendations!$L$71 -> 0 | LC3: =Recommendations!$L$75 -> 0 | LD3: =Recommendations!$L$79 -> 0 | LE3: =Recommendations!$L$83 -> 0 | LF3: =Recommendations!$L$87 -> 0 | LG3: =Recommendations!$L$91 -> 0 | LH3: =Recommendations!$L$95 -> 0 | LI3: =Recommendations!$L$99 -> 0 | LJ3: =Recommendations!$L$103 -> 0 | LK3: =Recommendations!$L$107 -> 0 | LL3: =Recommendations!$L$111 -> 0 | LM3: =Recommendations!$L$115 -> 0 | LN3: =Recommendations!$L$119 -> 0 | LO3: =Recommendations!$L$123 -> 0 | LP3: =Recommendations!$L$127 -> 0 | LQ3: =Recommendations!$L$131 -> 0
